BEGIN:VCALENDAR
VERSION:2.0
PRODID:-//de Brug - ECPv6.15.20//NONSGML v1.0//EN
CALSCALE:GREGORIAN
METHOD:PUBLISH
X-WR-CALNAME:de Brug
X-ORIGINAL-URL:https://debrugkrant.nl
X-WR-CALDESC:Evenementen voor de Brug
REFRESH-INTERVAL;VALUE=DURATION:PT1H
X-Robots-Tag:noindex
X-PUBLISHED-TTL:PT1H
BEGIN:VTIMEZONE
TZID:Europe/Amsterdam
BEGIN:DAYLIGHT
TZOFFSETFROM:+0100
TZOFFSETTO:+0200
TZNAME:CEST
DTSTART:20250330T010000
END:DAYLIGHT
BEGIN:STANDARD
TZOFFSETFROM:+0200
TZOFFSETTO:+0100
TZNAME:CET
DTSTART:20251026T010000
END:STANDARD
BEGIN:DAYLIGHT
TZOFFSETFROM:+0100
TZOFFSETTO:+0200
TZNAME:CEST
DTSTART:20260329T010000
END:DAYLIGHT
BEGIN:STANDARD
TZOFFSETFROM:+0200
TZOFFSETTO:+0100
TZNAME:CET
DTSTART:20261025T010000
END:STANDARD
BEGIN:DAYLIGHT
TZOFFSETFROM:+0100
TZOFFSETTO:+0200
TZNAME:CEST
DTSTART:20270328T010000
END:DAYLIGHT
BEGIN:STANDARD
TZOFFSETFROM:+0200
TZOFFSETTO:+0100
TZNAME:CET
DTSTART:20271031T010000
END:STANDARD
END:VTIMEZONE
BEGIN:VEVENT
DTSTART;TZID=Europe/Amsterdam:20260412T200000
DTEND;TZID=Europe/Amsterdam:20260513T000000
DTSTAMP:20260421T103346
CREATED:20260331T065025Z
LAST-MODIFIED:20260331T065026Z
UID:10000690-1776024000-1778630400@debrugkrant.nl
SUMMARY:Lindy Hop
DESCRIPTION:Live music Tam Tam Jungle Jam met social en verschillende acts. \n\n\n\ninfo@lindyspirit.nl\, toegang: € 9\,- \n\n\n\n 
URL:https://debrugkrant.nl/agenda/lindy-hop-7/
LOCATION:Jungle Amsterdam\, Tweede van Swindenstraat 26\, Amsterdam\, 1093 VS\, Netherlands
CATEGORIES:Muziek
ATTACH;FMTTYPE=image/jpeg:https://debrugkrant.nl/wp-content/uploads/2026/03/lindy-Hop.jpg
ORGANIZER;CN="Jungle amsterdam":MAILTO:communicatie@jungle.amsterdam
GEO:52.3616859;4.9264185
X-APPLE-STRUCTURED-LOCATION;VALUE=URI;X-ADDRESS=Jungle Amsterdam Tweede van Swindenstraat 26 Amsterdam 1093 VS Netherlands;X-APPLE-RADIUS=500;X-TITLE=Tweede van Swindenstraat 26:geo:4.9264185,52.3616859
END:VEVENT
BEGIN:VEVENT
DTSTART;TZID=Europe/Amsterdam:20260418T080000
DTEND;TZID=Europe/Amsterdam:20260503T170000
DTSTAMP:20260421T103346
CREATED:20260330T131736Z
LAST-MODIFIED:20260330T131947Z
UID:10000701-1776499200-1777827600@debrugkrant.nl
SUMMARY:Meivakantie in de OBA
DESCRIPTION:Lezen\, maken\, luisteren en spelen: deze meivakantie zit vol met activiteitenVan 19 april tot en met 4 mei 2026 is er van alles te doen bij de OBA. Ga naar een kinderboekenfeestje\, maak je eigen kunstwerk\, geniet van een familievoorstelling of zoek gewoon een lekker plekje om te lezen. Voor ieder wat wils \n\n\n\nKinderboekenfeestje Pluk & Pluis – De weg naar terug (6+) | 22 april 15:30 – 16:30 | OBA Javaplein\nFamilievoorstelling Lachen! (5+)  30 april 14:00 – 15:00 uur | OBA Javaplein\nMaak je eigen PRETvogel (8+) | 1 mei 14:30 – 16:00 | OBA Javaplein
URL:https://debrugkrant.nl/agenda/meivakantie-in-de-oba/2026-04-18/
LOCATION:OBa Javaplein\, Javaplein 2\, Amsterdam
CATEGORIES:Familie,Jeugd,Literatuur,Plezier
ATTACH;FMTTYPE=image/jpeg:https://debrugkrant.nl/wp-content/uploads/2026/03/meivakantie26_Kidsproof_2500x1667_2.jpg
ORGANIZER;CN="Lenneke Bri%C3%ABt":MAILTO:l.briet@oba.nl
GEO:52.3642513;4.9388734
X-APPLE-STRUCTURED-LOCATION;VALUE=URI;X-ADDRESS=OBa Javaplein Javaplein 2 Amsterdam;X-APPLE-RADIUS=500;X-TITLE=Javaplein 2:geo:4.9388734,52.3642513
END:VEVENT
BEGIN:VEVENT
DTSTART;TZID=Europe/Amsterdam:20260419T090000
DTEND;TZID=Europe/Amsterdam:20260419T120000
DTSTAMP:20260421T103346
CREATED:20260210T125117Z
LAST-MODIFIED:20260210T125119Z
UID:10000601-1776589200-1776600000@debrugkrant.nl
SUMMARY:Nescioloop 2026
DESCRIPTION:Hardlopen voor jong en oud door Amsterdam-Oost en Diemen. Ga je de uitdaging aan een eind hard te lopen? Dat kan. Voor iedereen is er een passende afstand over een mooi en veilig parcours. Atletiekvereniging AV23 organiseert dit evenement en je hoeft geen lid te zijn.
URL:https://debrugkrant.nl/agenda/nescioloop-2026/
LOCATION:AV23\, Radioweg 89\, Amsterdam\, 1098NG
CATEGORIES:Sport
ATTACH;FMTTYPE=image/jpeg:https://debrugkrant.nl/wp-content/uploads/2026/01/Nescioloop-Volw-Brug-1Mb-scaled.jpeg
ORGANIZER;CN="Pieter Kole":MAILTO:info@nescioloop.nl
GEO:52.3464923;4.9516233
X-APPLE-STRUCTURED-LOCATION;VALUE=URI;X-ADDRESS=AV23 Radioweg 89 Amsterdam 1098NG;X-APPLE-RADIUS=500;X-TITLE=Radioweg 89:geo:4.9516233,52.3464923
END:VEVENT
BEGIN:VEVENT
DTSTART;TZID=Europe/Amsterdam:20260419T100000
DTEND;TZID=Europe/Amsterdam:20260419T170000
DTSTAMP:20260421T103346
CREATED:20260403T122316Z
LAST-MODIFIED:20260403T122317Z
UID:10000727-1776592800-1776618000@debrugkrant.nl
SUMMARY:Rommelmarkt bij QRU (Spaklerweg)
DESCRIPTION:Op zondag 19 april vindt er weer een rommelmarkt plaats bij QRU\, onder het spoor aan de Spaklerweg 1 in Amsterdam Oost. Met meer dan 80 verkopers is er een ruim aanbod van vintage spullen\, kleding\, design en tweedehands vondsten.\nNaast het struinen langs de kramen is er muziek en zijn er koffie\, drankjes en snacks verkrijgbaar. De rommelmarkt staat bekend om de gezellige en toegankelijke sfeer voor buurtbewoners en bezoekers uit de stad.\nWil je zelf verkopen? Scoor je grondplek op de website van QRU.\nDe markt is geopend van 10:00 tot 17:00 uur.Entree: €2\,50 (stadspas €1\,50\, kinderen t/m 6 jaar gratis).\nGoed bereikbaar via metrostation Spaklerweg en station Amstel.
URL:https://debrugkrant.nl/agenda/rommelmarkt-bij-qru-spaklerweg/
LOCATION:qru\, Spaklerweg 1\, Amsterdam\, 1096BA
CATEGORIES:Markt
ATTACH;FMTTYPE=image/jpeg:https://debrugkrant.nl/wp-content/uploads/2026/04/658347314_1454118303078326_9090164661934113748_n.jpg
ORGANIZER;CN="Ricardo":MAILTO:info@qru.amsterdam
GEO:52.3426904;4.9189878
X-APPLE-STRUCTURED-LOCATION;VALUE=URI;X-ADDRESS=qru Spaklerweg 1 Amsterdam 1096BA;X-APPLE-RADIUS=500;X-TITLE=Spaklerweg 1:geo:4.9189878,52.3426904
END:VEVENT
BEGIN:VEVENT
DTSTART;TZID=Europe/Amsterdam:20260419T110000
DTEND;TZID=Europe/Amsterdam:20260419T150000
DTSTAMP:20260421T103346
CREATED:20260407T063448Z
LAST-MODIFIED:20260407T063449Z
UID:10000674-1776596400-1776610800@debrugkrant.nl
SUMMARY:Koffie in de gym
DESCRIPTION:Drempelvrees voor de sportschool? Op zondag 19 april tussen 11.00–15.00 uur kun je vrijblijvend kennismaken in de gym. Probeer onder begeleiding eens wat oefeningen uit. Doe een fysieke test op kracht of uithoudingsvermogen om te zien waar je nu staat\, en krijg tips over hoe je dat zou kunnen verbeteren. Essentieel als je fit oud wilt worden!\n\n \nWil je liever voedingsadvies\, of een uitgebreide rondleiding door de club? Boek je tijdslot en geef aan waar je het graag over wilt hebben. In een half uurtje praat coach Kjeld je bij onder het genot van een kopje koffie of thee.
URL:https://debrugkrant.nl/agenda/koffie-in-de-gym-2/
LOCATION:ProFit Gym\, Molukkenstraat 192\, Amsterdam\, 1098 TW
CATEGORIES:Informatief,Sport
ORGANIZER;CN="Kjeld de Ruyter":MAILTO:kjeld@vsgl.nl
GEO:52.357644;4.9402162
X-APPLE-STRUCTURED-LOCATION;VALUE=URI;X-ADDRESS=ProFit Gym Molukkenstraat 192 Amsterdam 1098 TW;X-APPLE-RADIUS=500;X-TITLE=Molukkenstraat 192:geo:4.9402162,52.357644
END:VEVENT
BEGIN:VEVENT
DTSTART;TZID=Europe/Amsterdam:20260419T150000
DTEND;TZID=Europe/Amsterdam:20260419T160000
DTSTAMP:20260421T103346
CREATED:20260320T064508Z
LAST-MODIFIED:20260320T064509Z
UID:10000671-1776610800-1776614400@debrugkrant.nl
SUMMARY:Spektakolo Pinokkio (4+)
DESCRIPTION:Met deze woorden begint een theatergezelschap vol enthousiasme met de opvoering van het beroemde verhaal Pinokkio. Het trio haalt letterlijk alles uit de kast om de avonturen van de houten pop te verbeelden. Muziek\, clownerie en natuurlijk poppenspel\, het wordt een bont spektakel. Of een vrolijk feest der mislukking? Komt dat zien\, komt dat zien! \n\n\n\nSamen met de iconische straattheatermaker Joe Dieffenbacher creëert poppentheater De Vliegende Koffer in coproductie met Circus of Life – Art of Clowning\, een uitzonderlijke uitvoering van Collodi’s beroemde boek ‘Pinocchio’. \n\n\n\nLive muziek\, speciaal gecomponeerde themes en soundscapes\, Steven Luca en Marc Heijnen Sopacuwa (herenigd na Vandaag en Bal)\, de herkenbare vilten poppen van Charlotte de Lange en confetti maken dit alles tot een kleurrijke voorstelling.
URL:https://debrugkrant.nl/agenda/spektakolo-pinokkio-4/
LOCATION:Plein Theater\, Sajetplein 39\, Amsterdam\, 1091 DB\, Netherlands
CATEGORIES:Familie,Jeugd,Theater
ATTACH;FMTTYPE=image/jpeg:https://debrugkrant.nl/wp-content/uploads/2026/03/DeVliegendeKoffer_Pinokkio_foto-MoonSaris_1-scaled-2048x1408-c-default.jpg
ORGANIZER;CN="Daniela":MAILTO:daniela@plein-theater
GEO:52.3609771;4.914003
X-APPLE-STRUCTURED-LOCATION;VALUE=URI;X-ADDRESS=Plein Theater Sajetplein 39 Amsterdam 1091 DB Netherlands;X-APPLE-RADIUS=500;X-TITLE=Sajetplein 39:geo:4.914003,52.3609771
END:VEVENT
BEGIN:VEVENT
DTSTART;TZID=Europe/Amsterdam:20260419T183000
DTEND;TZID=Europe/Amsterdam:20260419T233000
DTSTAMP:20260421T103346
CREATED:20260413T111613Z
LAST-MODIFIED:20260413T111615Z
UID:10000744-1776623400-1776641400@debrugkrant.nl
SUMMARY:Los Clasicos
DESCRIPTION:Op zondag 19  april vieren we hét Latin feest in Jungle Amsterdam.Dansen op de mooiste klassiekers uit salsa\, bachata en merengue\, verzorgd door DJ Vasco. Speciale extra: workshop bachata van 18:30 tot 19:30 uur\, inbegrepen bij je ticket. Geniet van heerlijke Latijns-Amerikaanse hapjes en drankjes. \n\n\n\nGratis parkeren\, tickets: €10 (incl. servicekosten) \n\n\n\ntickets: https://ap.lc/SkDIr \n\n\n\n 
URL:https://debrugkrant.nl/agenda/los-clasicos-4/
LOCATION:Jungle Amsterdam\, Tweede van Swindenstraat 26\, Amsterdam\, 1093 VS\, Netherlands
CATEGORIES:Muziek
ATTACH;FMTTYPE=image/jpeg:https://debrugkrant.nl/wp-content/uploads/2026/04/Lod-Classicos.jpeg
ORGANIZER;CN="Jungle amsterdam":MAILTO:communicatie@jungle.amsterdam
GEO:52.3616859;4.9264185
X-APPLE-STRUCTURED-LOCATION;VALUE=URI;X-ADDRESS=Jungle Amsterdam Tweede van Swindenstraat 26 Amsterdam 1093 VS Netherlands;X-APPLE-RADIUS=500;X-TITLE=Tweede van Swindenstraat 26:geo:4.9264185,52.3616859
END:VEVENT
END:VCALENDAR